BEGIN:VCALENDAR
VERSION:2.0
PRODID:-//Cenata GmbH - ECPv6.15.18//NONSGML v1.0//EN
CALSCALE:GREGORIAN
METHOD:PUBLISH
X-ORIGINAL-URL:https://www.cenata.de
X-WR-CALDESC:Veranstaltungen für Cenata GmbH
REFRESH-INTERVAL;VALUE=DURATION:PT1H
X-Robots-Tag:noindex
X-PUBLISHED-TTL:PT1H
BEGIN:VTIMEZONE
TZID:Europe/Paris
BEGIN:DAYLIGHT
TZOFFSETFROM:+0100
TZOFFSETTO:+0200
TZNAME:CEST
DTSTART:20240331T010000
END:DAYLIGHT
BEGIN:STANDARD
TZOFFSETFROM:+0200
TZOFFSETTO:+0100
TZNAME:CET
DTSTART:20241027T010000
END:STANDARD
BEGIN:DAYLIGHT
TZOFFSETFROM:+0100
TZOFFSETTO:+0200
TZNAME:CEST
DTSTART:20250330T010000
END:DAYLIGHT
BEGIN:STANDARD
TZOFFSETFROM:+0200
TZOFFSETTO:+0100
TZNAME:CET
DTSTART:20251026T010000
END:STANDARD
BEGIN:DAYLIGHT
TZOFFSETFROM:+0100
TZOFFSETTO:+0200
TZNAME:CEST
DTSTART:20260329T010000
END:DAYLIGHT
BEGIN:STANDARD
TZOFFSETFROM:+0200
TZOFFSETTO:+0100
TZNAME:CET
DTSTART:20261025T010000
END:STANDARD
END:VTIMEZONE
BEGIN:VEVENT
DTSTART;VALUE=DATE:20250620
DTEND;VALUE=DATE:20250622
DTSTAMP:20260420T140604
CREATED:20250527T082735Z
LAST-MODIFIED:20250527T083752Z
UID:31836-1750377600-1750550399@www.cenata.de
SUMMARY:18. Jahrestagung der MGFG
DESCRIPTION:20.-21. Juni 2025 in Lutherstadt Wittenberg\n\n\n\nStadthaus Wittenberg\nMauerstraße 18\n06886 Lutherstadt Wittenberg\n\nWissenschaftliches Programm – Freitag\, 20. Juni 2025 \n\n\n\n08:00 – 09:30 Uhr\nSeminar-Block 1\n\n\nSeminar S1\nRefresher Basics Pränataldiagnostik\nProf. Dr. Holger Stepan (Leipzig)\,\nProf. Dr. Stephanie Wallwiener (Halle/Saale)\n\n\nSeminar S2\nManagement bei peripartaler Blutung – Step by Step erklärt und geübt\nDr. Sven Seeger\, Dr. Michael Berger (Halle/Saale)\n\n\nSeminar S3\nKolposkopie-Essentials Vulva Abklärung und Lichen Sclerosus mit interaktiven Fallbeispielen\nPD Dr. Nadja Dornhöfer\, Dr. Katharina Horn (Leipzig)\n\n\n \n \n\n\n09:30 – 09:45 Uhr\nKurze Pause zum Raumwechseln und Besuch der Industrieausstellung\n\n\n \n \n\n\n09:45 – 11:15 Uhr\nSeminar-Block 2\n\n\nSeminar S4\nBasics Kinderwunschbehandlung\nPD Dr. Maren Goeckenjan (Dresden)\n\n\nSeminar S5\nSchulterdystokie -Nach neuer Leitlinie Step by Step erklärt und geübt (Phantomkurs)\nDr. Anja Radusch\, Dr. Marcus Riemer (Halle/Saale\n\n\nSeminar S6\nPillenführerschein\nDipl.-Med. Dörte Meisel (Wettin-Löbejün)\n\n\n \n \n\n\n09:15 – 11:15 Uhr\nSitzung der Chefärztinnen und Chefärzte aus Sachsen-Anhalt\, Sachsen und Thüringen\n\n\n \nVorsitzende:\nDr. Roger Rehfeld (Lutherstadt Wittenberg)\nDr. Tilmann Lantzsch (Halle /Saale)\nChefärztin Astrid Sonnabend (Köthen) \n\nQuo vadis Frauenheilkunde und Geburtshilfe\nProf. Dr. Gert Naumenn\, Präsident der DGGG e.V.\nDokumentation GYN und GEB –\nWorauf müßen wir aus Sicht des Medizinjuristen achten?\nDr. Roland Uphoff\, Bonn\nLeistungsgruppen in der Frauenheilkunde und Geburtshilfe – Was kommt auf uns zu? \nDr. Dirk Schaper (Halle/Saale)\n\n\n\n\n \n \n\n\n11:15 – 11:30 Uhr\nKaffepause\n\n\n \n \n\n\n11:30 – 12:00 Uhr\nBegrüßung und Eröffnung \n\n\n \n\n\nBegrüßung und Eröffnung der Tagung durch die Vorsitzende der MGFG e.V. und durch die Tagungspräsident*Innen\nGrußworte des Präsidenten der DGGG\nProf. Dr. Gert Naumann\, Erfurt\nGrußwort des Berufsverbandes\nDr. Frank Thieme\, Freyburg\nVerleihung der Loder Medaille\n\n\n\n\n \n \n\n\n12:00 – 13:00 Uhr\nHauptsitzung 1: Urogynäkologie & Onkologie\n\n\n \nVorsitzende:\nProf. Dr. Pauline Wimberger (Dresden)\nProf. Dr. Markus Wallwiener (Halle /Saale) \n\nState of the Art – Operative Gynäkologische\nOnkologie: Was ist neu?\nPD Dr. Nadja Dornhöfer (Leipzig)\nState of the Art – Gynäkologische Onkologie\nUpdate Medikamentös\nProf. Dr. Dirk Bauerschlag (Jena)\nGeburt und Beckenboden\nProf. Dr. Gert Naumann (Erfurt)\n„Best of the Best“ – Freier Vortrag\n\n\n\n\n13:00 – 14:00 Uhr\nMittagspause mit Besuch der Industrieausstellung\n\n\n \n \n\n\n13:30 – 14:00 Uhr\nLunchsymposium\n\n\n \nVorsitz: Prof. Dr. Dirk Bauerschlag \n\nADCs beim Mammakarzinom – alles schon gesagt?\nDr. Anne Klein (Borna)\n\n\n\n\n \n\n\n14:00 – 15:00 Uhr\nSymposium\nWegweisende Entwicklungen beim Mammakarzinom ngSERDs und neue HER2+ Strategien\n\n\n \nVorsitz: Prof. Dr. Markus Wallwiener (Halle/Saale) \n\nDie Qual der Wahl: Mono- oder Kombinationstherapie\nzur Behandlung des lokal fortgeschrittenen\noder metastasierten HR+/HER2-\nMammakarzinoms?\nProf. Dr. Bahriye Aktas (Leipzig)\nNeue Paradigmen für die Erstlinientherapie\nbeim lokal fortgeschrittenem oder metastasierten\nHER2+ Mammakarzinom\nProf. Dr. Pauline Wimberger (Dresden)\n\n\n\n\n \n \n\n\n15:00 – 16:00 Uhr\nHauptsitzung 2- Der besondere / interessante Fall\n\n\n \nVorsitzende: Prof. Dr. Bahriye Aktas (Leipzig) Prof. Dr. Holger Stepan (Leipzig) \n\nMammakarzinom – ein besonderer Fall \nDr. Susann Barrot (Halle/Saale) \nEndokrin-basierte Therapie beim Rezidiv eines low grade serösen Ovarialkarzinoms \nDr. Hans-Georg Strauß (Halle/Saale) \nMonosomie X: Typische sonografische Befunde- ungewöhnliche Genetik \nSabine Riße (Halle/Saale) \nOperative HSK und Ashermann Syndrom \nRazvan Petru Derihaci (Dresden)\naV Malformation \nDr. Melanie Schubert (Jena) \nAkute Leukämie in der Schwangerschaft \nDr. Patricia Rothen (Halle/Saale)\n\n\n\n\n \n \n\n\n16:00 – 16:30 Uhr\nKaffeepause mit Besuch der Industrieausstellung\n\n\n \n \n\n\n16:30 – 18:00 Uhr\nPoster-Sitzungen – parallel –\n\n\n\n  \n  \nWissenschaftliches Programm – Samstag\, 21. Juni 2025 \n\n\n\n09:00 – 11:00 Uhr\nHauptsitzung 3 -Geburtshilfe und Pränataldiagnostik \n\n\n \nVorsitzende:\nProf. Dr. Stephanie Wallwiener\, Dr. Sven Seeger (Halle / Saale) \n\nManagement von Zwillingsschwangerschaften\nProf. Dr. Holger Stepan (Leipzig)\nZervixsonographie in der Schwangerschaft\nProf. Dr. Renaldo Faber (Leipzig)\nModerne fetale Überwachung – Gegenwart und Zukunft\nDr. Janine Zöllkau (Jena)\nDigitale Versorgungsformen prä- und postpartal\nProf. Dr. Stephanie Wallwiener (Halle/Saale)\nDiagnostik und Management bei Placenta-Accreta-Spektrum (PAS)\nDr. Anja Bluth (Dresden)\n„Best of the Best“ – Freie Vorträge\n\n\n\n\n \n \n\n\n11:00 – 11:30 Uhr\nKaffeepause mit Besuch der Industrieausstellung \n\n\n \n \n\n\n11:30 – 13:00 Uhr \n11:30 – 11:50 Uhr \n  \n  \n  \n11:50 – 12:10 Uhr \n12:15 – 13:15 Uhr\nSymposium \n\nBiomarker gestützte Therapie beim HR+\, metastasierten Mammakarzinom: Erfahrungen bei Testung und Therapie \nVorsitzender: Prof. Dr. Markus Wallwiener (Halle /Saale) \nVortragende:\nProf. Dr. Frank Förster(Chemnitz)\, Dr. Theresa Link (Dresden) \nAdipositas aus gynäkologischer Perspektive: Auswirkungen und moderne Therapieansätze \nPD Dr. Friederike Weschenfelder (Jena)\nImmunonkologie im Fokus in der Senologie & Gyn-Onkologie Jüngste Entwicklungen beim frühen TNBC \nVorsitzender: Prof. Dr. Markus Wallwiener (Halle/Saale) \n• Neue Horizonte: Innovative Therapieop tionen beim lokal fortgeschrittenen Zervixkarzinom \nProf. Dr. Bahriye Aktas (Leipzig) \n• Aktuelle Behandlungsperspektiven beim fortgeschrittenen Endometriumkarzinom \nProf. Dr. Pauline Wimberger (Dresden) \n\n\n\n\n \n \n\n\n13:15 – 14:15 Uhr\nMittagspause\n(13:15 – 13:45 Uhr Mitgliederversammlung der MGFG e.V.)\n\n\n \n \n\n\n14:15 – 15:45 Uhr\nHauptsitzung 4 – Allg. Gynäkologie /Endokrinologie/ Reproduktionsmedizin\n\n\n \nVorsitzende:\nProf. Dr. Ekkehard Schleußner (Jena)\, Dr. Jens Schnabel (Chemnitz) \n\nHormonersatztherapie – State of the Art \nPD Dr. Maren Goeckenjan (Dresden)\nEndometriose von medikamentös bis operativ \nDr. Romy Handzel (Leipzig)\nBest of Reproduktionsmedizin \nSusanne Homeister (Halle/Salle)\nFertilitätsprotektion bei Geschlechtsdysphorie\nDr. Julia Bartley (Leipzig)\n„Best of the Best“ – Freier Vortrag\n\n\n\n\n \n \n\n\n15:45 – 16:00 Uhr\nSchluss-Sitzung\nmit Verleihung des Wissenschaftspreises und Prämierung der besten Poster
URL:https://www.cenata.de/event/18-jahrestagung-der-mgfg/
LOCATION:Lutherstadt Wittenberg\, Germany
CATEGORIES:Kongresse
END:VEVENT
END:VCALENDAR