BEGIN:VCALENDAR
VERSION:2.0
PRODID:-//Cenata GmbH - ECPv6.15.18//NONSGML v1.0//EN
CALSCALE:GREGORIAN
METHOD:PUBLISH
X-ORIGINAL-URL:https://www.cenata.de
X-WR-CALDESC:Veranstaltungen für Cenata GmbH
REFRESH-INTERVAL;VALUE=DURATION:PT1H
X-Robots-Tag:noindex
X-PUBLISHED-TTL:PT1H
BEGIN:VTIMEZONE
TZID:Europe/Paris
BEGIN:DAYLIGHT
TZOFFSETFROM:+0100
TZOFFSETTO:+0200
TZNAME:CEST
DTSTART:20240331T010000
END:DAYLIGHT
BEGIN:STANDARD
TZOFFSETFROM:+0200
TZOFFSETTO:+0100
TZNAME:CET
DTSTART:20241027T010000
END:STANDARD
BEGIN:DAYLIGHT
TZOFFSETFROM:+0100
TZOFFSETTO:+0200
TZNAME:CEST
DTSTART:20250330T010000
END:DAYLIGHT
BEGIN:STANDARD
TZOFFSETFROM:+0200
TZOFFSETTO:+0100
TZNAME:CET
DTSTART:20251026T010000
END:STANDARD
BEGIN:DAYLIGHT
TZOFFSETFROM:+0100
TZOFFSETTO:+0200
TZNAME:CEST
DTSTART:20260329T010000
END:DAYLIGHT
BEGIN:STANDARD
TZOFFSETFROM:+0200
TZOFFSETTO:+0100
TZNAME:CET
DTSTART:20261025T010000
END:STANDARD
END:VTIMEZONE
BEGIN:VEVENT
DTSTART;TZID=Europe/Paris:20250507T143000
DTEND;TZID=Europe/Paris:20250507T200000
DTSTAMP:20260420T002511
CREATED:20250402T093952Z
LAST-MODIFIED:20250402T093952Z
UID:31489-1746628200-1746648000@www.cenata.de
SUMMARY:Mainzer Tag der Gynäkologie
DESCRIPTION:Mainzer Tag der Gynäkologie\n 7. Mai 2025\, 14:30  bis 20:00  Uhr \nZ Quadrat GmbH \nGroße Langgasse 8 \n55116 Mainz \nHier finden Sie den aktuellen Programmflyer:
URL:https://www.cenata.de/event/mainzer-tag-der-gynaekologie/
LOCATION:Mainz
CATEGORIES:Kongresse
END:VEVENT
END:VCALENDAR